BEGIN:VCALENDAR
VERSION:2.0
PRODID:-//CiviCRM//NONSGML CiviEvent iCal//EN
X-WR-TIMEZONE:Europe/London
METHOD:PUBLISH
BEGIN:VTIMEZONE
TZID:Europe/London
BEGIN:DAYLIGHT
TZOFFSETFROM:+0100
TZOFFSETTO:+0100
TZNAME:BST
DTSTART:20260508T120000
END:DAYLIGHT
END:VTIMEZONE
BEGIN:VEVENT
UID:CiviCRM_EventID_339_d89aad00bbe807d862f6b859265efc54@www.nutritionsociety.org
SUMMARY:Early Career Members Online Networking Event 2026
X-ALT-DESC;FMTTYPE=text/html:<!DOCTYPE HTML PUBLIC
  "-//W3C//DTD HTML 3.2//EN"><html><body><p>Hosted 
 by the Early Career Section\, this dynamic session
  is packed with opportunities to:</p>\n \n <p>● Me
 et and connect with other passionate early-career 
 nutritionists</p>\n \n <p>● Swap career stories\, 
 insights\, and challenges with like-minded profess
 ionals</p>\n \n <p>● Discover invaluable resources
  and exciting opportunities</p>\n \n <p>● Learn ab
 out the incredible benefits the Early Career Secti
 on is planning for you</p>\n \n <p>Get ready for e
 ngaging discussions\, interactive breakout rooms\,
  and the chance to build meaningful connections th
 at can help propel your career forward.</p>\n \n <
 p>This is a <strong>FREE </strong>session for Earl
 y Career Members of the Nutrition Society. Don’t l
 et this opportunity slip by and secure your spot!<
 /p>\n \n <p>For Non-Members\, a fixed fee is appli
 cable - details below. <br />\n  </p>\n \n <p><str
 ong>You are registering to attend the Early Career
  Members Networking Session as an online attendee.
 </strong></p>\n \n <p><strong>*EARLY CAREER MEMBER
 S -  PLEASE LOG INTO YOUR MEMBER AREA <a href="htt
 ps://www.nutritionsociety.org/user/login?current=/
 ">HERE</a> BEFORE REGISTERING FOR THE EVENT FOR TH
 E DISCOUNT TO BE APPLIED TO THE REGISTRATION FEE. 
 </strong></p>\n \n <p>If you are having any issues
  registering for this event please do not hesitate
  to contact <a href="http://nutritionsociety.org">
 membership@nutritionsociety.org</a></p></body></ht
 ml>
DESCRIPTION:Hosted by the Early Career Section\, this dynamic 
 session is packed with opportunities to:\n \n \n \
 n ● Meet and connect with other passionate early-c
 areer nutritionists\n \n \n \n ● Swap career stori
 es\, insights\, and challenges with like-minded pr
 ofessionals\n \n \n \n ● Discover invaluable resou
 rces and exciting opportunities\n \n \n \n ● Learn
  about the incredible benefits the Early Career Se
 ction is planning for you\n \n \n \n Get ready for
  engaging discussions\, interactive breakout rooms
 \, and the chance to build meaningful connections 
 that can help propel your career forward.\n \n \n 
 \n This is a FREE session for Early Career Members
  of the Nutrition Society. Don’t let this opportun
 ity slip by and secure your spot!\n \n \n \n For N
 on-Members\, a fixed fee is applicable - details b
 elow. \n \n  \n \n \n \n You are registering to at
 tend the Early Career Members Networking Session a
 s an online attendee.\n \n \n \n *EARLY CAREER MEM
 BERS -  PLEASE LOG INTO YOUR MEMBER AREA HERE (htt
 ps://www.nutritionsociety.org/user/login?current=/
 ) BEFORE REGISTERING FOR THE EVENT FOR THE DISCOUN
 T TO BE APPLIED TO THE REGISTRATION FEE. \n \n \n 
 \n If you are having any issues registering for th
 is event please do not hesitate to contact members
 hip@nutritionsociety.org (http://nutritionsociety.
 org)\n \n 
CATEGORIES:Conference
CALSCALE:GREGORIAN
DTSTAMP;TZID=Europe/London:20260508T120000
DTSTART;TZID=Europe/London:20260508T120000
DTEND;TZID=Europe/London:20260508T130000
LOCATION:Conference hosted online\n United Kingdom\n 
URL:https://www.nutritionsociety.org/civicrm/event/info?reset=1&id=339
END:VEVENT
END:VCALENDAR
